BEGIN:VCALENDAR
VERSION:2.0
PRODID:Events Booking
BEGIN:VEVENT
UID:69e4def32e81a
SUMMARY:Wagga Wagga MND Stall
DESCRIPTION:There will be an MND stall with MND NSW merchandise available a
 t Bunnings Wagga Wagga - pop by and say hi!
LOCATION:Cnr. Dobney and\, Pearson St\, Wagga Wagga NSW 2650
DTSTART:20240525T000000Z
DTEND:20240525T040000Z
DTSTAMP:20240523T200927Z
ORGANIZER;CN=MNDNSW Website - Events:MAILTO:info@mndnsw.org.au
GEO:-35.120691;147.342491
X-APPLE-STRUCTURED-LOCATION;VALUE=URI;X-ADDRESS=Cnr. Dobney and\, Pearson S
 t\, Wagga Wagga NSW 2650;X-APPLE-RADIUS=72;X-TITLE=Bunnings Wagga Wagga:-3
 5.120691;147.342491
END:VEVENT
END:VCALENDAR