BEGIN:VCALENDAR
VERSION:2.0
PRODID:Events Booking
BEGIN:VEVENT
UID:69e4ca890a338
SUMMARY:Northern Suburbs Football Association MND Round
DESCRIPTION:The Northern Suburbs Football Association will once again be co
 nducting the association’s MND Round\, commencing Friday June 21st throu
 gh till Sunday the 30th\, aiming to increase awareness about motor neurone
  disease (MND)\, raise funds for MND NSW\, and show their support for form
 er NSFA Competitions Manager Damian Miles\, who was diagnosed with MND in 
 2020 and on Saturday 24th September 2022 peacefully passed away in hospita
 l.
LOCATION:Suite 2\, 4 10 Bridge St\, Pymble NSW 2073
DTSTART:20240620T140000Z
DTEND:20240630T130000Z
DTSTAMP:20240611T200456Z
ORGANIZER;CN=MNDNSW Website - Events:MAILTO:info@mndnsw.org.au
GEO:-33.749933;151.145438
X-APPLE-STRUCTURED-LOCATION;VALUE=URI;X-ADDRESS=Suite 2\, 4 10 Bridge St\, 
 Pymble NSW 2073;X-APPLE-RADIUS=72;X-TITLE=Northern Suburbs Football Associ
 ation:-33.749933;151.145438
END:VEVENT
END:VCALENDAR