BEGIN:VCALENDAR
VERSION:2.0
PRODID:Events Booking
BEGIN:VEVENT
UID:69e4ca52ebe69
SUMMARY:Sue Taylor Little Teapot Superstar
DESCRIPTION:The Little Teapot will be hosting a Drink Tea for MND event in 
 honour of Sue Taylor on Friday June 21 from 1pm to 3pm.
 Tickets are avai
 lable from The Little Teapot for $20 ($10 to MND NSW)\, and tables can be 
 booked in advance. Tickets include a small coffee or pot of tea and a slic
 e.
 You can also donate to the event at&nbsp\;https://www.mndblue.org.au/
 thelittleteapot.
LOCATION:8 Davistown Rd\, Davistown NSW 2251
DTSTART:20240621T030000Z
DTEND:20240621T050000Z
DTSTAMP:20240617T213101Z
ORGANIZER;CN=MNDNSW Website - Events:MAILTO:info@mndnsw.org.au
GEO:-33.485412;151.360417
X-APPLE-STRUCTURED-LOCATION;VALUE=URI;X-ADDRESS=8 Davistown Rd\, Davistown 
 NSW 2251;X-APPLE-RADIUS=72;X-TITLE=The Little Teapot:-33.485412;151.360417
END:VEVENT
END:VCALENDAR