BEGIN:VCALENDAR
VERSION:2.0
PRODID:Events Booking
BEGIN:VEVENT
UID:69ea631336991
SUMMARY:Gundaroo Music Festival 2018
DESCRIPTION:A 12 hour music festival raising funds to assist those with MND
 .
LOCATION:70 Cork St\, Gundaroo NSW 2620\, Australia
DTSTART:20181012T230000Z
DTEND:20181013T110000Z
DTSTAMP:20260423T182107Z
ORGANIZER;CN=MNDNSW Website - Events:MAILTO:info@mndnsw.org.au
GEO:-35.023604;149.265724
X-APPLE-STRUCTURED-LOCATION;VALUE=URI;X-ADDRESS=70 Cork St\, Gundaroo NSW 2
 620\, Australia;X-APPLE-RADIUS=72;X-TITLE=Gundaroo Park:-35.023604;149.265
 724
END:VEVENT
END:VCALENDAR