BEGIN:VCALENDAR
VERSION:2.0
PRODID:Events Booking
BEGIN:VEVENT
UID:69ea627ac88c7
SUMMARY:Bunnings Sausage Sizzle
DESCRIPTION:A sausage sizzle to be held at Bunnings Eastgardens.
LOCATION:140/148 Denison St\, Hillsdale NSW 2036\, Australia
DTSTART:20181006T210000Z
DTEND:20181007T050000Z
DTSTAMP:20260423T181834Z
ORGANIZER;CN=MNDNSW Website - Events:MAILTO:info@mndnsw.org.au
GEO:-33.949191;151.224497
X-APPLE-STRUCTURED-LOCATION;VALUE=URI;X-ADDRESS=140/148 Denison St\, Hillsd
 ale NSW 2036\, Australia;X-APPLE-RADIUS=72;X-TITLE=Bunnings Eastgardens:-3
 3.949191;151.224497
END:VEVENT
END:VCALENDAR