BEGIN:VCALENDAR
VERSION:2.0
PRODID:Events Booking
BEGIN:VEVENT
UID:69ea4d698aec2
SUMMARY:Dave Matthews Seniors Tennis Tournament
DESCRIPTION:Annual Seniors Tennis Tournament.
LOCATION:61 Dowling St\, Nelson Bay NSW 2315\, Australia
DTSTART:20181128T223000Z
DTEND:20181129T040000Z
DTSTAMP:20260423T164841Z
ORGANIZER;CN=MNDNSW Website - Events:MAILTO:info@mndnsw.org.au
GEO:-32.72589;152.144169
X-APPLE-STRUCTURED-LOCATION;VALUE=URI;X-ADDRESS=61 Dowling St\, Nelson Bay 
 NSW 2315\, Australia;X-APPLE-RADIUS=72;X-TITLE=Nelson Bay Tennis Club:-32.
 72589;152.144169
END:VEVENT
END:VCALENDAR