BEGIN:VCALENDAR
VERSION:2.0
PRODID:Events Booking
BEGIN:VEVENT
UID:69ea6295b0838
SUMMARY:Giving MND the Chop
DESCRIPTION:Fundraising for MND NSW before a hair cut and donation of hair.
DTSTART:20181004T140000Z
DTSTAMP:20260423T181901Z
ORGANIZER;CN=MNDNSW Website - Events:MAILTO:info@mndnsw.org.au
END:VEVENT
END:VCALENDAR