BEGIN:VCALENDAR
VERSION:2.0
PRODID:Events Booking
BEGIN:VEVENT
UID:69ea4e1f0d10c
SUMMARY:Newcastle Italian Film Festival
DESCRIPTION:A festival showing Italian Films over three days\, with proceed
 s from the event donated to MND NSW.
LOCATION:185 King St\, Newcastle NSW 2300\, Australia
DTSTART:20181108T130000Z
DTEND:20181110T130000Z
DTSTAMP:20260423T165143Z
ORGANIZER;CN=MNDNSW Website - Events:MAILTO:info@mndnsw.org.au
GEO:-32.927039;151.776469
X-APPLE-STRUCTURED-LOCATION;VALUE=URI;X-ADDRESS=185 King St\, Newcastle NSW
  2300\, Australia;X-APPLE-RADIUS=72;X-TITLE=Tower Cinemas Newcastle:-32.92
 7039;151.776469
END:VEVENT
END:VCALENDAR