BEGIN:VCALENDAR
VERSION:2.0
PRODID:Events Booking
BEGIN:VEVENT
UID:69ea7359b62b1
SUMMARY:Spring Exhibition
DESCRIPTION:Ballina Arts and Crafts Inc are celebrating 20 years with their
  Spring Exhibition and Spring Art Competition.
LOCATION:56 Cherry St\, Ballina NSW 2478\, Australia
DTSTART:20180927T140000Z
DTEND:20180929T140000Z
DTSTAMP:20260423T193033Z
ORGANIZER;CN=MNDNSW Website - Events:MAILTO:info@mndnsw.org.au
GEO:-28.867545;153.562752
X-APPLE-STRUCTURED-LOCATION;VALUE=URI;X-ADDRESS=56 Cherry St\, Ballina NSW 
 2478\, Australia;X-APPLE-RADIUS=72;X-TITLE=Ballina Masonic Centre:-28.8675
 45;153.562752
END:VEVENT
END:VCALENDAR