BEGIN:VCALENDAR
VERSION:2.0
PRODID:Events Booking
BEGIN:VEVENT
UID:69ea36d34da6b
SUMMARY:MND Fundraising Garage Sale
DESCRIPTION:A garage sale at Berry Chiropractic Clinic&nbsp\;to raise funds
  for MND NSW.
LOCATION:57 Queen St\, Berry NSW 2535\, Australia
DTSTART:20181201T210000Z
DTEND:20181202T030000Z
DTSTAMP:20260423T151219Z
ORGANIZER;CN=MNDNSW Website - Events:MAILTO:info@mndnsw.org.au
GEO:-34.774746;150.693184
X-APPLE-STRUCTURED-LOCATION;VALUE=URI;X-ADDRESS=57 Queen St\, Berry NSW 253
 5\, Australia;X-APPLE-RADIUS=72;X-TITLE=Berry Chiropractic Clinic:-34.7747
 46;150.693184
END:VEVENT
END:VCALENDAR