BEGIN:VCALENDAR
VERSION:2.0
PRODID:Events Booking
BEGIN:VEVENT
UID:69ea4dc261f12
SUMMARY:Newcastle Royals Korfball Club Trivia Night
DESCRIPTION:The Newcastle Royals will be raising money for MND NSW\, as wel
 l as one of the clubs founding members recently diagnosed with MND.
LOCATION:5 Lincoln St\, Charlestown NSW 2290\, Australia
DTSTART:20181116T080000Z
DTSTAMP:20260423T165010Z
ORGANIZER;CN=MNDNSW Website - Events:MAILTO:info@mndnsw.org.au
GEO:-32.96695;151.692914
X-APPLE-STRUCTURED-LOCATION;VALUE=URI;X-ADDRESS=5 Lincoln St\, Charlestown 
 NSW 2290\, Australia;X-APPLE-RADIUS=72;X-TITLE=Charlestown Bowling Club:-3
 2.96695;151.692914
END:VEVENT
END:VCALENDAR