BEGIN:VCALENDAR
VERSION:2.0
PRODID:Events Booking
BEGIN:VEVENT
UID:69ea4ce5d0b2e
SUMMARY:Cupcakes for a Cause - supporting MND
DESCRIPTION:Sale of cupcakes in support of MND.
LOCATION:481 Peel St\, Tamworth NSW 2340\, Australia
DTSTART:20181122T230000Z
DTEND:20181123T030000Z
DTSTAMP:20260423T164629Z
ORGANIZER;CN=MNDNSW Website - Events:MAILTO:info@mndnsw.org.au
GEO:-31.093842;150.932201
X-APPLE-STRUCTURED-LOCATION;VALUE=URI;X-ADDRESS=481 Peel St\, Tamworth NSW 
 2340\, Australia;X-APPLE-RADIUS=72;X-TITLE=Northern Inland Credit Union Ta
 mworth:-31.093842;150.932201
END:VEVENT
END:VCALENDAR