BEGIN:VCALENDAR
VERSION:2.0
PRODID:Events Booking
BEGIN:VEVENT
UID:69ea4d4469faf
SUMMARY:The Lap of Honour 2018 - Raffle
DESCRIPTION:Ticket sales for raffle to support MND NSW.
LOCATION:Westfield Shopping Centre\, 50 Wyong Rd\, Tuggerah NSW 2259\, Aust
 ralia
DTSTART:20181122T213000Z
DTEND:20181123T090000Z
DTSTAMP:20260423T164804Z
ORGANIZER;CN=MNDNSW Website - Events:MAILTO:info@mndnsw.org.au
GEO:-33.308391;151.413401
X-APPLE-STRUCTURED-LOCATION;VALUE=URI;X-ADDRESS=Westfield Shopping Centre\,
  50 Wyong Rd\, Tuggerah NSW 2259\, Australia;X-APPLE-RADIUS=72;X-TITLE=Wes
 tfield Tuggerah:-33.308391;151.413401
END:VEVENT
END:VCALENDAR