BEGIN:VCALENDAR
VERSION:2.0
PRODID:Events Booking
BEGIN:VEVENT
UID:69ea36e1df17d
SUMMARY:The Lap of Honour 2018 - Raffle
DESCRIPTION:Ticket sales for raffle to support MND NSW.
LOCATION:Lake Haven Shopping Centre\, 35 Lake Haven Dr &\, Goobarabah Ave\,
  Lake Haven NSW 2263\, Australia
DTSTART:20181203T213000Z
DTEND:20181204T090000Z
DTSTAMP:20260423T151233Z
ORGANIZER;CN=MNDNSW Website - Events:MAILTO:info@mndnsw.org.au
GEO:-33.241762;151.504573
X-APPLE-STRUCTURED-LOCATION;VALUE=URI;X-ADDRESS=Lake Haven Shopping Centre\
 , 35 Lake Haven Dr &\, Goobarabah Ave\, Lake Haven NSW 2263\, Australia;X-
 APPLE-RADIUS=72;X-TITLE=Lakehaven Shopping Centre:-33.241762;151.504573
END:VEVENT
END:VCALENDAR