BEGIN:VCALENDAR
VERSION:2.0
PRODID:Events Booking
BEGIN:VEVENT
UID:69ea4d00f2b61
SUMMARY:Open Studio Exhibition and Open Garden
DESCRIPTION:In connection with the Design Canberra Festival an Open Studio 
 Exhibition and Open Garden.
LOCATION:19 Cloncurry St\, Kaleen ACT 2617\, Australia
DTSTART:20181109T130000Z
DTEND:20181117T130000Z
DTSTAMP:20260423T164656Z
ORGANIZER;CN=MNDNSW Website - Events:MAILTO:info@mndnsw.org.au
GEO:-35.229336;149.097068
X-APPLE-STRUCTURED-LOCATION;VALUE=URI;X-ADDRESS=19 Cloncurry St\, Kaleen AC
 T 2617\, Australia;X-APPLE-RADIUS=72;X-TITLE=Judy Witherdin Glass:-35.2293
 36;149.097068
END:VEVENT
END:VCALENDAR