BEGIN:VCALENDAR
VERSION:2.0
PRODID:Events Booking
BEGIN:VEVENT
UID:69e9bb7d5f75a
SUMMARY:Riddla MND Golf Fundraiser 2019
DESCRIPTION:Play at the exclusive NSW Golf Course at the Riddla MND Golf Fu
 ndraiser 2019.&nbsp\;
LOCATION:Botany Bay National Park\, 1528 Anzac Parade\, La Perouse NSW 2036
DTSTART:20190617T213000Z
DTSTAMP:20260423T062605Z
ORGANIZER;CN=MNDNSW Website - Events:MAILTO:info@mndnsw.org.au
GEO:-33.991322;151.243761
X-APPLE-STRUCTURED-LOCATION;VALUE=URI;X-ADDRESS=Botany Bay National Park\, 
 1528 Anzac Parade\, La Perouse NSW 2036;X-APPLE-RADIUS=72;X-TITLE=NSW Golf
  Club:-33.991322;151.243761
END:VEVENT
END:VCALENDAR