BEGIN:VCALENDAR
VERSION:2.0
PRODID:Events Booking
BEGIN:VEVENT
UID:69e9cfe6ccd73
SUMMARY:Hike for Health - Great Wall of China
DESCRIPTION:Explore rural Chinese villages. Discover the contrasts of ancie
 nt and modern Beijing. Raise vital funds for MND NSW to support people liv
 ing with MND.
DTSTART:20190526T140000Z
DTEND:20190603T140000Z
DTSTAMP:20260423T075310Z
ORGANIZER;CN=MNDNSW Website - Events:MAILTO:info@mndnsw.org.au
END:VEVENT
END:VCALENDAR