BEGIN:VCALENDAR
VERSION:2.0
PRODID:Events Booking
BEGIN:VEVENT
UID:69e9cf55b6ca6
SUMMARY:Run MND - Central Coast
DESCRIPTION:A 10km run or walk and a 5km run or walk on the Central Coast t
 o raise money for MND.
LOCATION:103A Tuggerah Parade\, Long Jetty NSW 2261\, Australia
DTSTART:20190525T230000Z
DTEND:20190526T020000Z
DTSTAMP:20260423T075045Z
ORGANIZER;CN=MNDNSW Website - Events:MAILTO:info@mndnsw.org.au
GEO:-33.352761;151.486381
X-APPLE-STRUCTURED-LOCATION;VALUE=URI;X-ADDRESS=103A Tuggerah Parade\, Long
  Jetty NSW 2261\, Australia;X-APPLE-RADIUS=72;X-TITLE=Long Jetty Reserve:-
 33.352761;151.486381
END:VEVENT
END:VCALENDAR