BEGIN:VCALENDAR
VERSION:2.0
PRODID:Events Booking
BEGIN:VEVENT
UID:69e9cf46a8c35
SUMMARY:Run MND - Sutherland Shire
DESCRIPTION:A 10K run or walk&nbsp\;and&nbsp\;a 5K&nbsp\;run&nbsp\;or walk 
 in&nbsp\;the Sutherland Shire&nbsp\;to raise money for MND.
LOCATION:1R Mitchell Rd\, Cronulla NSW 2230\, Australia
DTSTART:20190525T230000Z
DTSTAMP:20260423T075030Z
ORGANIZER;CN=MNDNSW Website - Events:MAILTO:info@mndnsw.org.au
GEO:-34.041022;151.161999
X-APPLE-STRUCTURED-LOCATION;VALUE=URI;X-ADDRESS=1R Mitchell Rd\, Cronulla N
 SW 2230\, Australia;X-APPLE-RADIUS=72;X-TITLE=Don Lucas Reserve:-34.041022
 ;151.161999
END:VEVENT
END:VCALENDAR