BEGIN:VCALENDAR
VERSION:2.0
PRODID:Events Booking
BEGIN:VEVENT
UID:69ea20f641f13
SUMMARY:Bunnings Tuggeranong Sausage Sizzle
DESCRIPTION:A sausage sizzle at Bunnings Tuggeranong to support MND NSW.
LOCATION:320 Anketell St\, Greenway ACT 2900\, Australia
DTSTART:20190103T130000Z
DTSTAMP:20260423T133902Z
ORGANIZER;CN=MNDNSW Website - Events:MAILTO:info@mndnsw.org.au
GEO:-35.421691;149.07139
X-APPLE-STRUCTURED-LOCATION;VALUE=URI;X-ADDRESS=320 Anketell St\, Greenway 
 ACT 2900\, Australia;X-APPLE-RADIUS=72;X-TITLE=Bunnings Tuggeranong:-35.42
 1691;149.07139
END:VEVENT
END:VCALENDAR