BEGIN:VCALENDAR
VERSION:2.0
PRODID:Events Booking
BEGIN:VEVENT
UID:69ea204209725
SUMMARY:Mullets for MND
DESCRIPTION:A fundraiser for motor neurone disease with prizes for best mul
 lets\, a raffle\, auctions and bands at the Kootingal Hotel.
LOCATION:20 Gate St\, Kootingal NSW 2352
DTSTART:20190111T130000Z
DTSTAMP:20260423T133602Z
ORGANIZER;CN=MNDNSW Website - Events:MAILTO:info@mndnsw.org.au
GEO:-31.057758;151.051925
X-APPLE-STRUCTURED-LOCATION;VALUE=URI;X-ADDRESS=20 Gate St\, Kootingal NSW 
 2352;X-APPLE-RADIUS=72;X-TITLE=Kootingal Hotel:-31.057758;151.051925
END:VEVENT
END:VCALENDAR