BEGIN:VCALENDAR
VERSION:2.0
PRODID:Events Booking
BEGIN:VEVENT
UID:69ea20ea56307
SUMMARY:34th Illawarra Folk Festival
DESCRIPTION:Four days of music\, poetry\, comedy and dance.&nbsp\;Commencin
 g on 17 January with&nbsp\;a Charity Concert\, MND NSW has been selected a
 s one of the charities to benefit from this event.
LOCATION:Grevillea Park Road Bulli NSW 2516
DTSTART:20190116T130000Z
DTEND:20190119T130000Z
DTSTAMP:20260423T133850Z
ORGANIZER;CN=MNDNSW Website - Events:MAILTO:info@mndnsw.org.au
GEO:-34.33115;150.912643
X-APPLE-STRUCTURED-LOCATION;VALUE=URI;X-ADDRESS=Grevillea Park Road Bulli N
 SW 2516;X-APPLE-RADIUS=72;X-TITLE=Bulli Showground:-34.33115;150.912643
END:VEVENT
END:VCALENDAR