BEGIN:VCALENDAR
VERSION:2.0
PRODID:Events Booking
BEGIN:VEVENT
UID:69e9f69319ae0
SUMMARY:Dinner Dance - Cancelled
DESCRIPTION:A Buffet Dinner followed by a&nbsp\;Bush Dance&nbsp\;hosted by 
 Quota International Bathurst.
 Due to unforeseen circumstances this event
  has been cancelled.
LOCATION:29 William St\, Bathurst NSW 2795\, Australia
DTSTART:20190330T073000Z
DTEND:20190330T120000Z
DTSTAMP:20260423T103811Z
ORGANIZER;CN=MNDNSW Website - Events:MAILTO:info@mndnsw.org.au
GEO:-33.415169;149.58377
X-APPLE-STRUCTURED-LOCATION;VALUE=URI;X-ADDRESS=29 William St\, Bathurst NS
 W 2795\, Australia;X-APPLE-RADIUS=72;X-TITLE=Bathurst City Community Club:
 -33.415169;149.58377
END:VEVENT
END:VCALENDAR