BEGIN:VCALENDAR
VERSION:2.0
PRODID:Events Booking
BEGIN:VEVENT
UID:69e9a79408ba7
SUMMARY:East Hills Charity Car Show
DESCRIPTION:East Hills Charity Car Show supporting MND NSW.
LOCATION:565 Henry Lawson Drive\, Panania NSW 2213
DTSTART:20190728T000000Z
DTEND:20190728T050000Z
DTSTAMP:20260423T050108Z
ORGANIZER;CN=MNDNSW Website - Events:MAILTO:info@mndnsw.org.au
GEO:-33.951916;150.98435
X-APPLE-STRUCTURED-LOCATION;VALUE=URI;X-ADDRESS=565 Henry Lawson Drive\, Pa
 nania NSW 2213;X-APPLE-RADIUS=72;X-TITLE=Kelso Oval\, Panania:-33.951916;1
 50.98435
END:VEVENT
END:VCALENDAR