BEGIN:VCALENDAR
VERSION:2.0
PRODID:Events Booking
BEGIN:VEVENT
UID:69e9bb449feaa
SUMMARY:Lift4MND
DESCRIPTION:Kristina Angeli&nbsp\;will be lifting in support of MND NSW at 
 an Australian Powerlifting Competition in June. For information and to sup
 port Kristina visit https://give.everydayhero.com/au/lift4mnd&nbsp\;
LOCATION:Unit 5\, 66 Heffernan St\, Mitchell ACT 2911
DTSTART:20190628T140000Z
DTSTAMP:20260423T062508Z
ORGANIZER;CN=MNDNSW Website - Events:MAILTO:info@mndnsw.org.au
GEO:-35.217667;149.139266
X-APPLE-STRUCTURED-LOCATION;VALUE=URI;X-ADDRESS=Unit 5\, 66 Heffernan St\, 
 Mitchell ACT 2911;X-APPLE-RADIUS=72;X-TITLE=RealFITT :-35.217667;149.13926
 6
END:VEVENT
END:VCALENDAR