BEGIN:VCALENDAR
VERSION:2.0
PRODID:Events Booking
BEGIN:VEVENT
UID:69e9bb44d9005
SUMMARY:MND Fundraiser Event
DESCRIPTION:Raffles\, entertainment\, food and fundraiser for MND NSW.
LOCATION:82 Blackwall Rd\, Woy Woy NSW 2256\, Australia
DTSTART:20190615T073000Z
DTSTAMP:20260423T062508Z
ORGANIZER;CN=MNDNSW Website - Events:MAILTO:info@mndnsw.org.au
GEO:-33.48803;151.325813
X-APPLE-STRUCTURED-LOCATION;VALUE=URI;X-ADDRESS=82 Blackwall Rd\, Woy Woy N
 SW 2256\, Australia;X-APPLE-RADIUS=72;X-TITLE=Woy Woy Leagues Club:-33.488
 03;151.325813
END:VEVENT
END:VCALENDAR