BEGIN:VCALENDAR
VERSION:2.0
PRODID:Events Booking
BEGIN:VEVENT
UID:69e9cfa9013d4
SUMMARY:Annual Charity Day
DESCRIPTION:The Ionian Club of Canberra invite you to join them at their An
 nual Charity Day to raise funds for motor neurone disease.
LOCATION:Cnr Phillip Ave and Antill St\, Hackett NSW 2060
DTSTART:20190502T010000Z
DTSTAMP:20260423T075209Z
ORGANIZER;CN=MNDNSW Website - Events:MAILTO:info@mndnsw.org.au
GEO:-35.24719;149.155224
X-APPLE-STRUCTURED-LOCATION;VALUE=URI;X-ADDRESS=Cnr Phillip Ave and Antill 
 St\, Hackett NSW 2060;X-APPLE-RADIUS=72;X-TITLE=Saint Margaret's Church Ha
 ll:-35.24719;149.155224
END:VEVENT
END:VCALENDAR