BEGIN:VCALENDAR
VERSION:2.0
PRODID:Events Booking
BEGIN:VEVENT
UID:69e9cfe0447cc
SUMMARY:Saturday Night Italian Cinema
DESCRIPTION:Hand in Hand Art House\, organisers of the Newcastle Italian Fi
 lm Festival\, in conjunction with Event Cinemas Kotara proudly presents Sa
 turday Night Italian Cinemas.
LOCATION:Westfield Kotara Rooftop\, Cnr Northcott Dr and Park Ave\, Kotara 
 NSW 2289
DTSTART:20190504T090000Z
DTSTAMP:20260423T075304Z
ORGANIZER;CN=MNDNSW Website - Events:MAILTO:info@mndnsw.org.au
GEO:-32.942329;151.711102
X-APPLE-STRUCTURED-LOCATION;VALUE=URI;X-ADDRESS=Westfield Kotara Rooftop\, 
 Cnr Northcott Dr and Park Ave\, Kotara NSW 2289;X-APPLE-RADIUS=72;X-TITLE=
 Event Cinemas Kotara:-32.942329;151.711102
END:VEVENT
END:VCALENDAR