BEGIN:VCALENDAR
VERSION:2.0
PRODID:Events Booking
BEGIN:VEVENT
UID:69e9bfa909c77
SUMMARY:BBQ & Merchandise Fundraiser
DESCRIPTION:Fundraising during the month of July at Dan Murphy's Coffs Harb
 our\, with a BBQ being held on Saturday\, 20 July from 12noon to 2pm.&nbsp
 \;&nbsp\;
LOCATION:100-102 Grafton Street\, Coffs Harbour NSW 2450\, Austrlalia
DTSTART:20190630T140000Z
DTEND:20190730T140000Z
DTSTAMP:20260423T064353Z
ORGANIZER;CN=MNDNSW Website - Events:MAILTO:info@mndnsw.org.au
GEO:-30.294203;153.115025
X-APPLE-STRUCTURED-LOCATION;VALUE=URI;X-ADDRESS=100-102 Grafton Street\, Co
 ffs Harbour NSW 2450\, Austrlalia;X-APPLE-RADIUS=72;X-TITLE=Dan Murphy's C
 offs Harbour:-30.294203;153.115025
END:VEVENT
END:VCALENDAR