BEGIN:VCALENDAR
VERSION:2.0
PRODID:Events Booking
BEGIN:VEVENT
UID:69e9676966c4a
SUMMARY:Colour Me for MND
DESCRIPTION:A colour run to raise funds for MND.
LOCATION:123 Auburn St\, Coniston NSW 2500
DTSTART:20191026T220000Z
DTSTAMP:20260423T002721Z
ORGANIZER;CN=MNDNSW Website - Events:MAILTO:info@mndnsw.org.au
GEO:-34.438572;150.886743
X-APPLE-STRUCTURED-LOCATION;VALUE=URI;X-ADDRESS=123 Auburn St\, Coniston NS
 W 2500;X-APPLE-RADIUS=72;X-TITLE=Coniston Public School:-34.438572;150.886
 743
END:VEVENT
END:VCALENDAR