BEGIN:VCALENDAR
VERSION:2.0
PRODID:Events Booking
BEGIN:VEVENT
UID:69e9918915c81
SUMMARY:AFIF Charity Golf Day 2019
DESCRIPTION:The Australian Federation of International Forwarders (AFIF) ar
 e holding their Annual Charity Golf Day\, this year in support of MND NSW.
 &nbsp\;
LOCATION:Macquarie Links Dr\, Macquarie Links NSW 2565
DTSTART:20190807T223000Z
DTSTAMP:20260423T032705Z
ORGANIZER;CN=MNDNSW Website - Events:MAILTO:info@mndnsw.org.au
GEO:-33.983635;150.874334
X-APPLE-STRUCTURED-LOCATION;VALUE=URI;X-ADDRESS=Macquarie Links Dr\, Macqua
 rie Links NSW 2565;X-APPLE-RADIUS=72;X-TITLE=Macquarie Links International
  Golf Club:-33.983635;150.874334
END:VEVENT
END:VCALENDAR