BEGIN:VCALENDAR
VERSION:2.0
PRODID:Events Booking
BEGIN:VEVENT
UID:69e9a70ad7186
SUMMARY:Sydney Hawks Charity Day
DESCRIPTION:AFL Game Day TV viewing with competitions\, raffles\, auction\,
  cup cake and merchandise sales.
LOCATION:146 Henderson Rd\, Alexandria NSW 2015\, Australia
DTSTART:20190721T020000Z
DTEND:20190721T080000Z
DTSTAMP:20260423T045850Z
ORGANIZER;CN=MNDNSW Website - Events:MAILTO:info@mndnsw.org.au
GEO:-33.897722;151.192886
X-APPLE-STRUCTURED-LOCATION;VALUE=URI;X-ADDRESS=146 Henderson Rd\, Alexandr
 ia NSW 2015\, Australia;X-APPLE-RADIUS=72;X-TITLE=The Camelia Grove Hotel:
 -33.897722;151.192886
END:VEVENT
END:VCALENDAR