BEGIN:VCALENDAR
VERSION:2.0
PRODID:Events Booking
BEGIN:VEVENT
UID:69e97c65d5acc
SUMMARY:Kilimanjaro For Derek
DESCRIPTION:Support Rodney Starr who will be climbing Mount Kilimanjaro in 
 memory of his friend Derek and to raise funds for MND NSW.
DTSTART:20190906T140000Z
DTEND:20190914T140000Z
DTSTAMP:20260423T015653Z
ORGANIZER;CN=MNDNSW Website - Events:MAILTO:info@mndnsw.org.au
END:VEVENT
END:VCALENDAR