BEGIN:VCALENDAR
VERSION:2.0
PRODID:Events Booking
BEGIN:VEVENT
UID:69e97c665a1ef
SUMMARY:Spring Has Sprung Musical Showcase
DESCRIPTION:A concert featuring local bands and choirs in support of people
  living with MND.
LOCATION:Corner Amaroo Avenue and Pacific Highway\, Mount Colah NSW 2079
DTSTART:20190907T090000Z
DTEND:20190907T120000Z
DTSTAMP:20260423T015654Z
ORGANIZER;CN=MNDNSW Website - Events:MAILTO:info@mndnsw.org.au
GEO:-33.673611;151.111815
X-APPLE-STRUCTURED-LOCATION;VALUE=URI;X-ADDRESS=Corner Amaroo Avenue and Pa
 cific Highway\, Mount Colah NSW 2079;X-APPLE-RADIUS=72;X-TITLE=Mount Colah
  Uniting Church:-33.673611;151.111815
END:VEVENT
END:VCALENDAR