BEGIN:VCALENDAR
VERSION:2.0
PRODID:Events Booking
BEGIN:VEVENT
UID:69e7d43453e29
SUMMARY:Beat the Beast Team Roping Spectacular 
DESCRIPTION:Team Roping and Timed Event in support of MND NSW.
 &nbsp\;
LOCATION:Selina Street\, Bendemeer NSW
DTSTART:20210507T220000Z
DTEND:20210509T110000Z
DTSTAMP:20260421T194700Z
ORGANIZER;CN=MNDNSW Website - Events:MAILTO:info@mndnsw.org.au
GEO:-30.885085;151.157826
X-APPLE-STRUCTURED-LOCATION;VALUE=URI;X-ADDRESS=Selina Street\, Bendemeer N
 SW;X-APPLE-RADIUS=72;X-TITLE=Bendemeer Rodeo Grounds:-30.885085;151.157826
END:VEVENT
END:VCALENDAR