BEGIN:VCALENDAR
VERSION:2.0
PRODID:Events Booking
BEGIN:VEVENT
UID:69e991b00c872
SUMMARY:Calwell Winter Indoor Fair
DESCRIPTION:The Calwell Winter Indoor Fair is a community family event. Sta
 ll holders will sell a range of locally made products and produce. There w
 ill be live performers\, kids craft activities\, face painting and a sausa
 ge sizzle.
LOCATION:17 Webber Crescent\, Calwell ACT 2905
DTSTART:20190817T003000Z
DTEND:20190817T043000Z
DTSTAMP:20260423T032744Z
ORGANIZER;CN=MNDNSW Website - Events:MAILTO:info@mndnsw.org.au
GEO:-35.435459;149.114936
X-APPLE-STRUCTURED-LOCATION;VALUE=URI;X-ADDRESS=17 Webber Crescent\, Calwel
 l ACT 2905;X-APPLE-RADIUS=72;X-TITLE=Calwell Anglican Church Hall:-35.4354
 59;149.114936
END:VEVENT
END:VCALENDAR