BEGIN:VCALENDAR
VERSION:2.0
PRODID:Events Booking
BEGIN:VEVENT
UID:69e97c65cd7c2
SUMMARY:Never Give Up Raffle
DESCRIPTION:Get your ticket now for the 'Never Give Up Raffle' proudly supp
 orted by Big4 Easts Beach Holiday Parks Kiama.&nbsp\;
 Purchase tickets a
 nd see details at the following link&nbsp\;https://www.rafflelink.com.au/n
 ever-give-up&nbsp\;
DTSTART:20190916T140000Z
DTEND:20191016T130000Z
DTSTAMP:20260423T015653Z
ORGANIZER;CN=MNDNSW Website - Events:MAILTO:info@mndnsw.org.au
END:VEVENT
END:VCALENDAR