BEGIN:VCALENDAR
VERSION:2.0
PRODID:Events Booking
BEGIN:VEVENT
UID:69e93de9031f3
SUMMARY:Market Stall
DESCRIPTION:Donation to MND NSW from sale of pottery item at 'Handmade in t
 he Hunter Markets'.
LOCATION:5 Halls Road\, Pokolbin NSW 2320
DTSTART:20191226T220000Z
DTEND:20191229T040000Z
DTSTAMP:20260422T213017Z
ORGANIZER;CN=MNDNSW Website - Events:MAILTO:info@mndnsw.org.au
GEO:-32.774674;151.318135
X-APPLE-STRUCTURED-LOCATION;VALUE=URI;X-ADDRESS=5 Halls Road\, Pokolbin NSW
  2320;X-APPLE-RADIUS=72;X-TITLE=Kevin Sobels Wines:-32.774674;151.318135
END:VEVENT
END:VCALENDAR