BEGIN:VCALENDAR
VERSION:2.0
PRODID:Events Booking
BEGIN:VEVENT
UID:69e953317ac9f
SUMMARY:High Tea
DESCRIPTION:A High Tea overlooking the stunning Moruya River\, with all pro
 ceeds to MND NSW.
LOCATION:14 Ted Hunt Terrace\, Moruya NSW 2537
DTSTART:20191104T030000Z
DTSTAMP:20260422T230105Z
ORGANIZER;CN=MNDNSW Website - Events:MAILTO:info@mndnsw.org.au
GEO:-35.903271;150.05136
X-APPLE-STRUCTURED-LOCATION;VALUE=URI;X-ADDRESS=14 Ted Hunt Terrace\, Moruy
 a NSW 2537;X-APPLE-RADIUS=72;X-TITLE=Whites Meadow:-35.903271;150.05136
END:VEVENT
END:VCALENDAR