BEGIN:VCALENDAR
VERSION:2.0
PRODID:Events Booking
BEGIN:VEVENT
UID:69e93de9030c5
SUMMARY:MND Christmas Wrapping Stall
DESCRIPTION:MND Christmas Wrapping Stall and sale of MND NSW merchandise to
  be held on the following dates. Gold coin donation for wrapping Christmas
  gifts.
 
 20 December
 24 December
 
LOCATION:Railway Street\, Woy Woy NSW 2256\, Australia
DTSTART:20191219T220000Z
DTEND:20191224T060000Z
DTSTAMP:20260422T213017Z
ORGANIZER;CN=MNDNSW Website - Events:MAILTO:info@mndnsw.org.au
GEO:-33.487121;151.322435
X-APPLE-STRUCTURED-LOCATION;VALUE=URI;X-ADDRESS=Railway Street\, Woy Woy NS
 W 2256\, Australia;X-APPLE-RADIUS=72;X-TITLE=Deepwater Plaza:-33.487121;15
 1.322435
END:VEVENT
END:VCALENDAR