BEGIN:VCALENDAR
VERSION:2.0
PRODID:Events Booking
BEGIN:VEVENT
UID:69e9158f33877
SUMMARY:Alstonville Ashes
DESCRIPTION:The Alstonville Football Club is holding a cricket match to sup
 port MND NSW. The day will include a raffle\, canteen and childrens activi
 ties.
LOCATION:Alstonville NSW 2475
DTSTART:20200208T030000Z
DTSTAMP:20260422T183807Z
ORGANIZER;CN=MNDNSW Website - Events:MAILTO:info@mndnsw.org.au
GEO:-28.84134;153.443839
X-APPLE-STRUCTURED-LOCATION;VALUE=URI;X-ADDRESS=Alstonville NSW 2475;X-APPL
 E-RADIUS=72;X-TITLE=Geoff Watt Oval\, Alstonville:-28.84134;153.443839
END:VEVENT
END:VCALENDAR