BEGIN:VCALENDAR
VERSION:2.0
PRODID:Events Booking
BEGIN:VEVENT
UID:69e9159e28995
SUMMARY:Burgers & Bingo
DESCRIPTION:Support MND NSW while eating amazing burgers and playing bingo!
LOCATION:58 Ferodale Rd\, Medowie NSW 2318
DTSTART:20200218T060000Z
DTSTAMP:20260422T183822Z
ORGANIZER;CN=MNDNSW Website - Events:MAILTO:info@mndnsw.org.au
GEO:-32.742591;151.873165
X-APPLE-STRUCTURED-LOCATION;VALUE=URI;X-ADDRESS=58 Ferodale Rd\, Medowie NS
 W 2318;X-APPLE-RADIUS=72;X-TITLE=Active Diner Medowie:-32.742591;151.87316
 5
END:VEVENT
END:VCALENDAR