BEGIN:VCALENDAR
VERSION:2.0
PRODID:Events Booking
BEGIN:VEVENT
UID:69e854facc825
SUMMARY:Bunnings Fyshwick BBQ
DESCRIPTION:Fundraising BBQ with all proceeds going to MND NSW.
LOCATION:Corner Collie Street and Newcastle Street\, Fyshwick ACT 2609
DTSTART:20201113T210000Z
DTEND:20201114T070000Z
DTSTAMP:20260422T045626Z
ORGANIZER;CN=MNDNSW Website - Events:MAILTO:info@mndnsw.org.au
GEO:-35.331147;149.178856
X-APPLE-STRUCTURED-LOCATION;VALUE=URI;X-ADDRESS=Corner Collie Street and Ne
 wcastle Street\, Fyshwick ACT 2609;X-APPLE-RADIUS=72;X-TITLE=Bunnings Fysh
 wick:-35.331147;149.178856
END:VEVENT
END:VCALENDAR