BEGIN:VCALENDAR
VERSION:2.0
PRODID:Events Booking
BEGIN:VEVENT
UID:69e87e1635fb0
SUMMARY:SCIS Group Challenge to d'feet MND
DESCRIPTION:SCIS Property Group are raising funds for MND NSW with a challe
 nge during the month on September.
DTSTART:20200831T140000Z
DTEND:20200929T140000Z
DTSTAMP:20260422T075150Z
ORGANIZER;CN=MNDNSW Website - Events:MAILTO:info@mndnsw.org.au
END:VEVENT
END:VCALENDAR