BEGIN:VCALENDAR
VERSION:2.0
PRODID:Events Booking
BEGIN:VEVENT
UID:69e89466b3875
SUMMARY:Ted's Personal Challenge for Steve
DESCRIPTION:Ted has set himself a challenge in support of his good mate Ste
 ve\, to raise funds for research for MND. To make a donation and read more
  about Ted's challenge and his mate Steve visit their page here.&nbsp\;
DTSTART:20200806T140000Z
DTEND:20201001T140000Z
DTSTAMP:20260422T092702Z
ORGANIZER;CN=MNDNSW Website - Events:MAILTO:info@mndnsw.org.au
END:VEVENT
END:VCALENDAR