BEGIN:VCALENDAR
VERSION:2.0
PRODID:Events Booking
BEGIN:VEVENT
UID:69e857cea058e
SUMMARY:Run MND Challenge
DESCRIPTION:Run or walk either 25km\, 50km\, or 100km throughout the month 
 of November. Or set your own goal. The choice is yours! To participate and
  support this event go to the challenge page here.
DTSTART:20201031T130000Z
DTEND:20201129T130000Z
DTSTAMP:20260422T050830Z
ORGANIZER;CN=MNDNSW Website - Events:MAILTO:info@mndnsw.org.au
END:VEVENT
END:VCALENDAR