BEGIN:VCALENDAR
VERSION:2.0
PRODID:Events Booking
BEGIN:VEVENT
UID:69e854ef6b071
SUMMARY:Grill'd Macquarie Centre - Local Matters
DESCRIPTION:Visit Grill'd Macquarie Centre during the month of November to 
 support MND NSW by participating in their Local Matters Donation Program.
LOCATION:Level 3\, Cnr Waterloo Rd & Herring Rd\, North Ryde NSW 2113
DTSTART:20201031T130000Z
DTEND:20201129T130000Z
DTSTAMP:20260422T045615Z
ORGANIZER;CN=MNDNSW Website - Events:MAILTO:info@mndnsw.org.au
GEO:-33.775868;151.119403
X-APPLE-STRUCTURED-LOCATION;VALUE=URI;X-ADDRESS=Level 3\, Cnr Waterloo Rd &
  Herring Rd\, North Ryde NSW 2113;X-APPLE-RADIUS=72;X-TITLE=Grill'd Macqua
 rie Centre:-33.775868;151.119403
END:VEVENT
END:VCALENDAR