BEGIN:VCALENDAR
VERSION:2.0
PRODID:Events Booking
BEGIN:VEVENT
UID:69e7d462c6d9e
SUMMARY:Dale Kenny Memorial Cricket Day
DESCRIPTION:A day of cricket to raise awareness and funds for MND.
 The ra
 ffle for the Allan Morgan Dale Kenny Memorial Cricket Day originally plann
 ed to be held earlier in the year will also be drawn at the cricket day on
  May 29.
LOCATION:Taylor's Arm
DTSTART:20210529T000000Z
DTSTAMP:20260421T194746Z
ORGANIZER;CN=MNDNSW Website - Events:MAILTO:info@mndnsw.org.au
GEO:-30.768367;152.716018
X-APPLE-STRUCTURED-LOCATION;VALUE=URI;X-ADDRESS=Taylor's Arm;X-APPLE-RADIUS
 =72;X-TITLE=Taylor's Arm:-30.768367;152.716018
END:VEVENT
END:VCALENDAR