BEGIN:VCALENDAR
VERSION:2.0
PRODID:Events Booking
BEGIN:VEVENT
UID:69e7c01b77d66
SUMMARY:Riddla MND Golf Fundraiser 2021
DESCRIPTION:Riddla MND Golf Fundraiser - Friday\, 4 June 2021Twin Creeks Go
 lf &amp\; Country Club\, 2-8 Twin Creeks Drive\, Luddenham NSW
 $120 per 
 person
 &nbsp\;
LOCATION:2-8 Twin Creeks Drive\, Luddenham NSW
DTSTART:20210603T203000Z
DTSTAMP:20260421T182115Z
ORGANIZER;CN=MNDNSW Website - Events:MAILTO:info@mndnsw.org.au
GEO:-33.834054;150.761113
X-APPLE-STRUCTURED-LOCATION;VALUE=URI;X-ADDRESS=2-8 Twin Creeks Drive\, Lud
 denham NSW;X-APPLE-RADIUS=72;X-TITLE=Twin Creeks Golf & Country Club:-33.8
 34054;150.761113
END:VEVENT
END:VCALENDAR