BEGIN:VCALENDAR
VERSION:2.0
PRODID:Events Booking
BEGIN:VEVENT
UID:69e7e8e7f3761
SUMMARY:MND Fundraiser Comedy Night - My Naughty Dad
DESCRIPTION:Lily Starr and Abby Gallaway are here to present the variety sh
 ow featuring a stellar line up of comedy\, live music\, drag\, and sketch 
 performers.
 Lily’s brand new comedy show “My Naughty Dad” will als
 o be previewed at the event. It's billed to be an enlightening and heartwa
 rming show that highlights the importance of family and friends when life 
 throws unexpected adversity at you.
LOCATION:107 Crystal St\, Petersham NSW 2049
DTSTART:20210417T080000Z
DTEND:20210417T110000Z
DTSTAMP:20260421T211519Z
ORGANIZER;CN=MNDNSW Website - Events:MAILTO:info@mndnsw.org.au
GEO:-33.894637;151.157399
X-APPLE-STRUCTURED-LOCATION;VALUE=URI;X-ADDRESS=107 Crystal St\, Petersham 
 NSW 2049;X-APPLE-RADIUS=72;X-TITLE=Petersham Town Hall:-33.894637;151.1573
 99
END:VEVENT
END:VCALENDAR